BEGIN:VCALENDAR
VERSION:2.0
PRODID:-//VNA &amp; Hospice of the Southwest Region - ECPv6.15.17.1//NONSGML v1.0//EN
CALSCALE:GREGORIAN
METHOD:PUBLISH
X-ORIGINAL-URL:https://vermontvisitingnurses.org
X-WR-CALDESC:Events for VNA &amp; Hospice of the Southwest Region
REFRESH-INTERVAL;VALUE=DURATION:PT1H
X-Robots-Tag:noindex
X-PUBLISHED-TTL:PT1H
BEGIN:VTIMEZONE
TZID:America/New_York
BEGIN:DAYLIGHT
TZOFFSETFROM:-0500
TZOFFSETTO:-0400
TZNAME:EDT
DTSTART:20250309T070000
END:DAYLIGHT
BEGIN:STANDARD
TZOFFSETFROM:-0400
TZOFFSETTO:-0500
TZNAME:EST
DTSTART:20251102T060000
END:STANDARD
BEGIN:DAYLIGHT
TZOFFSETFROM:-0500
TZOFFSETTO:-0400
TZNAME:EDT
DTSTART:20260308T070000
END:DAYLIGHT
BEGIN:STANDARD
TZOFFSETFROM:-0400
TZOFFSETTO:-0500
TZNAME:EST
DTSTART:20261101T060000
END:STANDARD
BEGIN:DAYLIGHT
TZOFFSETFROM:-0500
TZOFFSETTO:-0400
TZNAME:EDT
DTSTART:20270314T070000
END:DAYLIGHT
BEGIN:STANDARD
TZOFFSETFROM:-0400
TZOFFSETTO:-0500
TZNAME:EST
DTSTART:20271107T060000
END:STANDARD
END:VTIMEZONE
BEGIN:VEVENT
DTSTART;TZID=America/New_York:20260912T093000
DTEND;TZID=America/New_York:20260912T113000
DTSTAMP:20260423T114656
CREATED:20260318T144829Z
LAST-MODIFIED:20260319T144405Z
UID:10004635-1789205400-1789212600@vermontvisitingnurses.org
SUMMARY:Advance Directive 2-Hour Workshop: Understanding the Advance Directive (Repeat Offering)
DESCRIPTION:[vc_row][vc_column][vc_column_text css=””] \nThis session is a repeat of the April 18th workshop.We will again walk through each section of the Short Form Advance Directive\, explain key decisions\, and provide practical guidance to help you begin completing your form.\n\nFree community workshops designed to help you complete a Short Form Advance Directive (VT Ethics Network) with clarity\, confidence\, and support. Each workshop is 2 hours in length.\n\n–———— \nFacilitated by Ed Keating\nEnd of Life\, Grief & Bereavement Specialist \nHospice Volunteer \nBereavement Volunteer \nRSVP to ed.keating@vnahsr.org   802-445-5520 \nDate: Saturday September 12\, 2026  9:30-11:30 a.m. \nLocation: Bennington Free Library\, Rotary Room\, 101 Silver St. Bennington VT 05201 \n[/vc_column_text][/vc_column][/vc_row]
URL:https://vermontvisitingnurses.org/event/advance-directive-workshop-2-understanding-the-advance-directive-repeat-offering/
LOCATION:Bennington Free Library\, 101 Silver Streret\, Bennington\, VT\, 05201\, United States
CATEGORIES:Advance Directive Workshop
ATTACH;FMTTYPE=image/png:https://vermontvisitingnurses.org/wp-content/uploads/2025/07/Advance-Directive-Workshop.png
ORGANIZER;CN="Ed Keating":MAILTO:ed.keating@vermontvisitingnurses.org
END:VEVENT
BEGIN:VEVENT
DTSTART;TZID=America/New_York:20261114T093000
DTEND;TZID=America/New_York:20261114T113000
DTSTAMP:20260423T114656
CREATED:20260318T144936Z
LAST-MODIFIED:20260319T144453Z
UID:10004636-1794648600-1794655800@vermontvisitingnurses.org
SUMMARY:Advance Directive 2-Hour Workshop: Let's Finish Your Advance Directive Together
DESCRIPTION:[vc_row][vc_column][vc_column_text css=””] \n\nA relaxed follow-up session for those who have already started their Advance Directive.\nThe focus will be on helping you finalize and sign your document. No presentation; facilitators will be available to work with you to answer your questions. Bring your partially completed form and your questions.\n\nIf you complete your Advance Directive at this session\, facilitators will be able to serve as witnesses upon your signature. We also plan to have scanning capabilities to email you a PDF copy of your completed\, signed and witnessed form to distribute.\n\n\nFree community workshops designed to help you complete a Short Form Advance Directive (VT Ethics Network) with clarity\, confidence\, and support. Each workshop is 2 hours in length.\n\n–———— \nFacilitated by Ed Keating\nEnd of Life\, Grief & Bereavement Specialist \nHospice Volunteer \nBereavement Volunteer \nRSVP to ed.keating@vnahsr.org   802-445-5520 \nDate: Saturday\, November 14th\, 2026  9:30-11:30 a.m. \nLocation: Bennington Free Library\, Rotary Room\, 101 Silver St. Bennington VT 05201 \n[/vc_column_text][/vc_column][/vc_row]
URL:https://vermontvisitingnurses.org/event/advance-directive-workshop-3-lets-finish-your-advance-directive-together/
LOCATION:Bennington Free Library\, 101 Silver Streret\, Bennington\, VT\, 05201\, United States
CATEGORIES:Advance Directive Workshop
ATTACH;FMTTYPE=image/png:https://vermontvisitingnurses.org/wp-content/uploads/2025/07/Advance-Directive-Workshop.png
ORGANIZER;CN="Ed Keating":MAILTO:ed.keating@vermontvisitingnurses.org
END:VEVENT
END:VCALENDAR