BEGIN:VCALENDAR
VERSION:2.0
PRODID:-//VNA &amp; Hospice of the Southwest Region - ECPv6.15.17.1//NONSGML v1.0//EN
CALSCALE:GREGORIAN
METHOD:PUBLISH
X-WR-CALNAME:VNA &amp; Hospice of the Southwest Region
X-ORIGINAL-URL:https://vermontvisitingnurses.org
X-WR-CALDESC:Events for VNA &amp; Hospice of the Southwest Region
REFRESH-INTERVAL;VALUE=DURATION:PT1H
X-Robots-Tag:noindex
X-PUBLISHED-TTL:PT1H
BEGIN:VTIMEZONE
TZID:America/New_York
BEGIN:DAYLIGHT
TZOFFSETFROM:-0500
TZOFFSETTO:-0400
TZNAME:EDT
DTSTART:20250309T070000
END:DAYLIGHT
BEGIN:STANDARD
TZOFFSETFROM:-0400
TZOFFSETTO:-0500
TZNAME:EST
DTSTART:20251102T060000
END:STANDARD
BEGIN:DAYLIGHT
TZOFFSETFROM:-0500
TZOFFSETTO:-0400
TZNAME:EDT
DTSTART:20260308T070000
END:DAYLIGHT
BEGIN:STANDARD
TZOFFSETFROM:-0400
TZOFFSETTO:-0500
TZNAME:EST
DTSTART:20261101T060000
END:STANDARD
BEGIN:DAYLIGHT
TZOFFSETFROM:-0500
TZOFFSETTO:-0400
TZNAME:EDT
DTSTART:20270314T070000
END:DAYLIGHT
BEGIN:STANDARD
TZOFFSETFROM:-0400
TZOFFSETTO:-0500
TZNAME:EST
DTSTART:20271107T060000
END:STANDARD
END:VTIMEZONE
BEGIN:VEVENT
DTSTART;TZID=America/New_York:20260127T100000
DTEND;TZID=America/New_York:20260127T120000
DTSTAMP:20260421T132138
CREATED:20260122T182844Z
LAST-MODIFIED:20260122T182844Z
UID:10003626-1769508000-1769515200@vermontvisitingnurses.org
SUMMARY:Advance Directive Workshop (Rutland)
DESCRIPTION:What is it?\nA workshop focusing on answering questions about the Vermont Ethics Network’s Advance Directive Short Form. If the form is completed during the workshop\, participants may upload the form to the Vermont Advance Directive Registry for review and acceptance.\n\nTo review the form before the workshop go to www.vtethicsnetwork.org/forms.\n\nSpace is limited\, advanced registration is required.\n\nWho facilitates it? Nicole DeNoyers\n\nContact Nicole DeNoyers to sign up: 802.369.9440 | nicole.denoyers@vnahsr.org
URL:https://vermontvisitingnurses.org/event/advance-directive-workshop-rutland-3/
LOCATION:Rutland Free Library\, 10 Court Street\, Rutland\, 05701\, United States
CATEGORIES:Advance Directive Workshop
ATTACH;FMTTYPE=image/png:https://vermontvisitingnurses.org/wp-content/uploads/2025/07/Advance-Directive-Workshop.png
ORGANIZER;CN="Nicole DeNoyers":MAILTO:nicole.denoyers@vermontvisitingnurses.org
END:VEVENT
BEGIN:VEVENT
DTSTART;TZID=America/New_York:20260127T160000
DTEND;TZID=America/New_York:20260127T170000
DTSTAMP:20260421T132138
CREATED:20260122T183041Z
LAST-MODIFIED:20260122T183041Z
UID:10003630-1769529600-1769533200@vermontvisitingnurses.org
SUMMARY:Living With Loss - Free\, Weekly Bereavement Support (Bennington)
DESCRIPTION:[vc_row][vc_column][vc_column_text css=””] \nJoin us for a free bereavement support group facilitated by Jamie Losikoff-Kent\, LCSW Bereavement Coordinator\, at VNA & Hospice of the Southwest Region.\n\nBereavement Support groups offer participants a space to process their grief\, share and receive helpful coping strategies and create a community with others walking a similar path.\n\nFree and available to the community.\n\nTo pre-register\, call: 802-779-5061\n[/vc_column_text][/vc_column][/vc_row]
URL:https://vermontvisitingnurses.org/event/living-with-loss-free-weekly-bereavement-support-bennington-17/
LOCATION:VNA & Hospice of the Southwest Region – Bennington\, Putnam Block\, 335 Main St.\, Office C\, Bennington\, VT\, 05201\, United States
CATEGORIES:Bereavement Group
ATTACH;FMTTYPE=image/jpeg:https://vermontvisitingnurses.org/wp-content/uploads/2023/07/Living-with-Loss-Grief-Support-Group.jpg
END:VEVENT
BEGIN:VEVENT
DTSTART;TZID=America/New_York:20260128T130000
DTEND;TZID=America/New_York:20260128T140000
DTSTAMP:20260421T132138
CREATED:20260122T183320Z
LAST-MODIFIED:20260122T183320Z
UID:10003638-1769605200-1769608800@vermontvisitingnurses.org
SUMMARY:Living With Loss - Free\, Weekly Bereavement Support (Manchester)
DESCRIPTION:[vc_row][vc_column][vc_column_text css=””] \nJoin us for a free bereavement support group facilitated by Jamie Losikoff-Kent\, LCSW Bereavement Coordinator\, at VNA & Hospice of the Southwest Region.\n\nBereavement Support groups offer participants a space to process their grief\, share and receive helpful coping strategies and create a community with others walking a similar path.\n\nFree and available to the community.\n\nTo pre-register\, call: 802-779-5061\n[/vc_column_text][/vc_column][/vc_row]
URL:https://vermontvisitingnurses.org/event/living-with-loss-free-weekly-bereavement-support-manchester-18/
LOCATION:VNA & Hospice – Manchester\, VT\, 5468 Main Street\, Manchester Center\, VT\, 05255\, United States
CATEGORIES:Bereavement Group
ATTACH;FMTTYPE=image/jpeg:https://vermontvisitingnurses.org/wp-content/uploads/2023/07/Living-with-Loss-Grief-Support-Group.jpg
GEO:43.1806201;-73.0468229
X-APPLE-STRUCTURED-LOCATION;VALUE=URI;X-ADDRESS=VNA & Hospice – Manchester VT 5468 Main Street Manchester Center VT 05255 United States;X-APPLE-RADIUS=500;X-TITLE=5468 Main Street:geo:-73.0468229,43.1806201
END:VEVENT
BEGIN:VEVENT
DTSTART;TZID=America/New_York:20260129T173000
DTEND;TZID=America/New_York:20260129T193000
DTSTAMP:20260421T132138
CREATED:20260122T185119Z
LAST-MODIFIED:20260122T185119Z
UID:10004166-1769707800-1769715000@vermontvisitingnurses.org
SUMMARY:Franklin County Heart Strings Choir Rehearsal
DESCRIPTION:Singing might not be the first thing that comes to mind when you think of volunteering\, but joining a Hospice Choir can be a very rewarding and meaningful way to give back. Hospice Choirs offer song of healing and comfort at the bedside of hospice patients as a loving gift to those who need support at their most vulnerable time. \nFor more information\, please contact Mary Pleasant\, Hospice Volunteer Services Coordinator: mary.pleasant@vnahsr.org or 802-442-0540
URL:https://vermontvisitingnurses.org/event/franklin-county-heart-strings-choir-rehearsal/2026-01-29/
LOCATION:First Congregational Church\, 27 Church St\, St. Albans\, VT\, 05478\, United States
CATEGORIES:Hospice Music Outreach
ATTACH;FMTTYPE=image/jpeg:https://vermontvisitingnurses.org/wp-content/uploads/2017/10/Serenity_Singers-1024x597.jpg
ORGANIZER;CN="Mary Pleasant":MAILTO:mary.pleasant@vermontvisitingnurses.org
END:VEVENT
END:VCALENDAR