BEGIN:VCALENDAR
VERSION:2.0
PRODID:-//VNA &amp; Hospice of the Southwest Region - ECPv6.15.17.1//NONSGML v1.0//EN
CALSCALE:GREGORIAN
METHOD:PUBLISH
X-WR-CALNAME:VNA &amp; Hospice of the Southwest Region
X-ORIGINAL-URL:https://vermontvisitingnurses.org
X-WR-CALDESC:Events for VNA &amp; Hospice of the Southwest Region
REFRESH-INTERVAL;VALUE=DURATION:PT1H
X-Robots-Tag:noindex
X-PUBLISHED-TTL:PT1H
BEGIN:VTIMEZONE
TZID:America/New_York
BEGIN:DAYLIGHT
TZOFFSETFROM:-0500
TZOFFSETTO:-0400
TZNAME:EDT
DTSTART:20170312T070000
END:DAYLIGHT
BEGIN:STANDARD
TZOFFSETFROM:-0400
TZOFFSETTO:-0500
TZNAME:EST
DTSTART:20171105T060000
END:STANDARD
BEGIN:DAYLIGHT
TZOFFSETFROM:-0500
TZOFFSETTO:-0400
TZNAME:EDT
DTSTART:20180311T070000
END:DAYLIGHT
BEGIN:STANDARD
TZOFFSETFROM:-0400
TZOFFSETTO:-0500
TZNAME:EST
DTSTART:20181104T060000
END:STANDARD
BEGIN:DAYLIGHT
TZOFFSETFROM:-0500
TZOFFSETTO:-0400
TZNAME:EDT
DTSTART:20190310T070000
END:DAYLIGHT
BEGIN:STANDARD
TZOFFSETFROM:-0400
TZOFFSETTO:-0500
TZNAME:EST
DTSTART:20191103T060000
END:STANDARD
END:VTIMEZONE
BEGIN:VEVENT
DTSTART;TZID=America/New_York:20180604T120000
DTEND;TZID=America/New_York:20180604T190000
DTSTAMP:20260422T211633
CREATED:20180321T192733Z
LAST-MODIFIED:20180420T191723Z
UID:10000287-1528113600-1528138800@vermontvisitingnurses.org
SUMMARY:Swinging for Solutions FORE Hospice
DESCRIPTION:[vc_row equal_height=”yes”][vc_column width=”1/2″][vc_column_text] \nJoin us for a great day of GOLF in support of Hospice Care.\nJoin Table 24 at Rutland Country Club in Rutland\, VT for our annual Charity Golf Tournament. It will be a great day of golf with friends as we raise funds for the VNA & Hospice of the Southwest Region’s Life’s Journey Campaign—a critical fundraising campaign in support of an expansion of our facilities that will help us meet the needs of the unprecedented growth of our Hospice Program. \nThe Table 24 Golf Tournament is a fun\, relaxed Captain & Crew/Scramble format and golfers of all ability levels are encouraged to play. If you don’t have a team\, but would like to play\, sign-up and we’ll be sure to match you with a great crew. \nSpace is limited\, reserve your spot today. \n$100 per golfer.[/vc_column_text][/vc_column][vc_column width=”1/2″][vc_single_image image=”1792″ img_size=”full” alignment=”center”][/vc_column][/vc_row][vc_row][vc_column][vc_single_image image=”1796″ img_size=”full” onclick=”custom_link” link=”mailto:steve@table24.net”][/vc_column][/vc_row]
URL:https://vermontvisitingnurses.org/event/swinging-solutions-fore-hospice/
LOCATION:Rutland Country Club\, 275 Grove Street\, Rutland\, VT\, 05701\, United States
CATEGORIES:Fundraising Events,Golf Tournament
ATTACH;FMTTYPE=image/jpeg:https://vermontvisitingnurses.org/wp-content/uploads/2018/03/Swinging-for-Solutions-Golf-Tournament.jpg
ORGANIZER;CN="Table 24":MAILTO:Steve@table24.net
GEO:43.625927;-72.98667
X-APPLE-STRUCTURED-LOCATION;VALUE=URI;X-ADDRESS=Rutland Country Club 275 Grove Street Rutland VT 05701 United States;X-APPLE-RADIUS=500;X-TITLE=275 Grove Street:geo:-72.98667,43.625927
END:VEVENT
END:VCALENDAR